BEGIN:VCALENDAR
VERSION:2.0
PRODID:-//eventon.com NONSGML v1.0//EN
BEGIN:VEVENT
UID:69e8870e3a6ea
DTSTAMP:20260422T083006
DTSTART:20191025T010000Z
DTEND:20191027T010000Z
LOCATION:Airshow- Wings Over Dallas 
SUMMARY:Airshow- Wings Over Dallas AT-6
DESCRIPTION: Airshow- Wings Over Dallas AT-6
END:VEVENT
END:VCALENDAR